BEGIN:VCALENDAR
VERSION:2.0
PRODID:-//London Festival Opera - ECPv6.15.11//NONSGML v1.0//EN
CALSCALE:GREGORIAN
METHOD:PUBLISH
X-WR-CALNAME:London Festival Opera
X-ORIGINAL-URL:https://londonfestivalopera.co.uk
X-WR-CALDESC:Events for London Festival Opera
REFRESH-INTERVAL;VALUE=DURATION:PT1H
X-Robots-Tag:noindex
X-PUBLISHED-TTL:PT1H
BEGIN:VTIMEZONE
TZID:Europe/London
BEGIN:DAYLIGHT
TZOFFSETFROM:+0000
TZOFFSETTO:+0100
TZNAME:BST
DTSTART:20180325T010000
END:DAYLIGHT
BEGIN:STANDARD
TZOFFSETFROM:+0100
TZOFFSETTO:+0000
TZNAME:GMT
DTSTART:20181028T010000
END:STANDARD
BEGIN:DAYLIGHT
TZOFFSETFROM:+0000
TZOFFSETTO:+0100
TZNAME:BST
DTSTART:20190331T010000
END:DAYLIGHT
BEGIN:STANDARD
TZOFFSETFROM:+0100
TZOFFSETTO:+0000
TZNAME:GMT
DTSTART:20191027T010000
END:STANDARD
BEGIN:DAYLIGHT
TZOFFSETFROM:+0000
TZOFFSETTO:+0100
TZNAME:BST
DTSTART:20200329T010000
END:DAYLIGHT
BEGIN:STANDARD
TZOFFSETFROM:+0100
TZOFFSETTO:+0000
TZNAME:GMT
DTSTART:20201025T010000
END:STANDARD
BEGIN:DAYLIGHT
TZOFFSETFROM:+0000
TZOFFSETTO:+0100
TZNAME:BST
DTSTART:20210328T010000
END:DAYLIGHT
BEGIN:STANDARD
TZOFFSETFROM:+0100
TZOFFSETTO:+0000
TZNAME:GMT
DTSTART:20211031T010000
END:STANDARD
END:VTIMEZONE
BEGIN:VEVENT
DTSTART;TZID=Europe/London:20200418T193000
DTEND;TZID=Europe/London:20200418T193000
DTSTAMP:20260419T191520
CREATED:20190827T154104Z
LAST-MODIFIED:20191106T104853Z
UID:3135-1587238200-1587238200@londonfestivalopera.co.uk
SUMMARY:'A Celebration of Opera' at the Pavilion Theatre\, Cromer
DESCRIPTION:A public gala performance by London Festival Opera at The Pavilion Theatre\, Cromer. Tickets available from the Pavilion Theatre Box Office. \nCelebrate the wonder of opera in the company of Mozart\, Verdi\, Bizet\, Puccini\, Offenbach\, Gilbert & Sullivan and more\, in a feast of some of the greatest music ever composed. \nA programme of passion\, drama\, humour\, superb singing\, elegant costumes and an attractive set combine to make this a performance not to be missed. A thrilling evening for all opera lovers and newcomers alike!
URL:https://londonfestivalopera.co.uk/event/a-celebration-of-opera-at-the-pavilion-theatre-cromer/
LOCATION:The Pavilion Theatrem\, Cromer\, Promenade\, Cromer\, Norfolk\, NR27 9HE\, United Kingdom
CATEGORIES:Opera Gala Evening,Public Performances,Theatre Performances
ATTACH;FMTTYPE=image/jpeg:https://londonfestivalopera.co.uk/wp-content/uploads/2019/03/A-Celebration-of-Opera-with-text-SQUAREjpeg.jpg
END:VEVENT
BEGIN:VEVENT
DTSTART;TZID=Europe/London:20200214T194500
DTEND;TZID=Europe/London:20200214T194500
DTSTAMP:20260419T191520
CREATED:20191104T123743Z
LAST-MODIFIED:20191104T123743Z
UID:3375-1581709500-1581709500@londonfestivalopera.co.uk
SUMMARY:'A Celebration of Opera' at Lighthouse\, Poole
DESCRIPTION:A public gala performance by London Festival Opera at Lighthouse\, Poole. Tickets available from Lighthouse Box Office. \nCelebrate the wonder of opera in the company of Mozart\, Verdi\, Bizet\, Puccini\, Offenbach\, Gilbert & Sullivan and more\, in a feast of some of the greatest music ever composed. \nA programme of passion\, drama\, humour\, superb singing\, elegant costumes and an attractive set combine to make this a performance not to be missed. A thrilling evening for all opera lovers and newcomers alike!
URL:https://londonfestivalopera.co.uk/event/a-celebration-of-opera-at-lighthouse-poole/
LOCATION:Lighthouse\, Poole\, 21 Kingland Road\, Poole\, Dorset\, BH15 1UG
CATEGORIES:Opera Gala Evening,Public Performances,Theatre Performances
ATTACH;FMTTYPE=image/jpeg:https://londonfestivalopera.co.uk/wp-content/uploads/2019/03/A-Celebration-of-Opera-with-text-SQUAREjpeg.jpg
END:VEVENT
BEGIN:VEVENT
DTSTART;TZID=Europe/London:20200109T193000
DTEND;TZID=Europe/London:20200109T193000
DTSTAMP:20260419T191520
CREATED:20190827T153050Z
LAST-MODIFIED:20190827T153050Z
UID:3129-1578598200-1578598200@londonfestivalopera.co.uk
SUMMARY:'A New Year's Night at the Opera' at Wycombe Swan Theatre\, High Wycombe
DESCRIPTION:A public gala performance by London Festival Opera at Wycombe Swan Theatre\, High Wycombe.   Tickets available from the Wycombe Swan Box Office. \nCelebrate the wonder of opera in the company of Mozart\, Verdi\, Bizet\, Puccini\, Offenbach\, Gilbert & Sullivan and more\, in a musical New Year’s feast of some of the greatest music ever composed. \nA programme of passion\, drama\, humour\, superb singing\, elegant costumes and an attractive set combine to make this a performance not to be missed.  A thrilling evening for all opera lovers and newcomers alike!
URL:https://londonfestivalopera.co.uk/event/a-new-years-night-at-the-opera-at-wycombe-swan-theatre-high-wycombe/
LOCATION:Wycombe Swan Theatre\, High Wycombe\, St Mary Street\, HIgh Wycombe\, Buckinghamshire\, HP11 2XE\, United Kingdom
CATEGORIES:Opera Gala Evening,Public Performances,Theatre Performances
ATTACH;FMTTYPE=image/jpeg:https://londonfestivalopera.co.uk/wp-content/uploads/2019/03/A-Celebration-of-Opera-image-oblong.jpg
END:VEVENT
BEGIN:VEVENT
DTSTART;TZID=Europe/London:20191208T170000
DTEND;TZID=Europe/London:20191208T170000
DTSTAMP:20260419T191520
CREATED:20190722T163328Z
LAST-MODIFIED:20190722T163328Z
UID:3071-1575824400-1575824400@londonfestivalopera.co.uk
SUMMARY:'A Christmas Night at the Opera' at Stamford Corn Exchange Theatre
DESCRIPTION:A public gala performance by London Festival Opera at The Stamford Corn Exchange Theatre.   Tickets available from the Stamford Corn Exchange Box Office. \nCelebrate the wonder of opera in the company of Mozart\, Verdi\, Bizet\, Puccini\, Offenbach\, Gilbert & Sullivan and more\, in a musical Christmas feast of some of the greatest music ever composed. \nA programme of passion\, drama\, humour\, superb singing\, elegant costumes and an attractive set combine to make this a performance not to be missed.  A thrilling evening for all opera lovers and newcomers alike! \nCome and join in the Christmas spirit by singing popular carols with the soloists at the end of the programme.
URL:https://londonfestivalopera.co.uk/event/a-christmas-night-at-the-opera-at-stamford-corn-exchange-theatre/
LOCATION:Stamford Corn Exchange Theatre\, Broad Street\, Stamford\, Lincolnshire\, PE9 1PX\, United Kingdom
CATEGORIES:Opera Gala Evening,Public Performances,Theatre Performances
ATTACH;FMTTYPE=image/jpeg:https://londonfestivalopera.co.uk/wp-content/uploads/2019/07/Theatre-Christmas-Shot-resized.jpg
END:VEVENT
BEGIN:VEVENT
DTSTART;TZID=Europe/London:20191102T193000
DTEND;TZID=Europe/London:20191102T193000
DTSTAMP:20260419T191520
CREATED:20190722T155737Z
LAST-MODIFIED:20190722T160737Z
UID:3064-1572723000-1572723000@londonfestivalopera.co.uk
SUMMARY:'A Celebration of Opera' at The Lyceum Theatre\, Crewe
DESCRIPTION:A public gala performance by London Festival Opera at The Lyceum Theatre\, Crewe.   Tickets available from the Crewe Lyceum Box Office. \nCelebrate the wonder of opera in the company of Mozart\, Verdi\, Bizet\, Puccini\, Offenbach\, Gilbert & Sullivan and more\, in a feast of some of the greatest music ever composed. \nA programme of passion\, drama\, humour\, superb singing\, elegant costumes and an attractive set combine to make this a performance not to be missed.  A thrilling evening for all opera lovers and newcomers alike!
URL:https://londonfestivalopera.co.uk/event/a-celebration-of-opera-at-the-lyceum-theatre-crewe/
LOCATION:The Lyceum\, Crewe\, Heath Street\, Crewe\, Cheshire\, CW1 2DA\, United Kingdom
CATEGORIES:Opera Gala Evening,Public Performances,Theatre Performances
ATTACH;FMTTYPE=image/jpeg:https://londonfestivalopera.co.uk/wp-content/uploads/2019/03/A-Celebration-of-Opera-with-text-SQUAREjpeg.jpg
END:VEVENT
BEGIN:VEVENT
DTSTART;TZID=Europe/London:20191004T193000
DTEND;TZID=Europe/London:20191004T193000
DTSTAMP:20260419T191520
CREATED:20190325T144922Z
LAST-MODIFIED:20190603T152640Z
UID:2691-1570217400-1570217400@londonfestivalopera.co.uk
SUMMARY:'A Celebration of Opera' at Blackpool Grand Theatre
DESCRIPTION:A public gala performance by London Festival Opera at The Blackpool Grand Theatre.   Tickets available from the Blackpool Grand Box Office. \nCelebrate the wonder of opera in the company of Mozart\, Verdi\, Bizet\, Puccini\, Offenbach\, Gilbert & Sullivan and more\, in a feast of some of the greatest music ever composed. \nA programme of passion\, drama\, humour\, superb singing\, elegant costumes and an attractive set combine to make this a performance not to be missed.  A thrilling evening for all opera lovers and newcomers alike!
URL:https://londonfestivalopera.co.uk/event/a-celebration-of-opera-at-blackpool-grand-theatre/
LOCATION:The Blackpool Grand Theatre\, Blackpool\, 33 Church Street\, Blackpool\, FY1 1HT\, United Kingdom
CATEGORIES:Opera Gala Evening,Public Performances,Theatre Performances
ATTACH;FMTTYPE=image/jpeg:https://londonfestivalopera.co.uk/wp-content/uploads/2019/03/A-Celebration-of-Opera-with-text-SQUAREjpeg.jpg
END:VEVENT
BEGIN:VEVENT
DTSTART;TZID=Europe/London:20190911T193000
DTEND;TZID=Europe/London:20190911T193000
DTSTAMP:20260419T191520
CREATED:20190325T142848Z
LAST-MODIFIED:20190603T152554Z
UID:2679-1568230200-1568230200@londonfestivalopera.co.uk
SUMMARY:'A Celebration of Opera' at The Wolverhampton Grand Theatre
DESCRIPTION:A public gala performance by London Festival Opera at The Wolverhampton Grand Theatre.   Tickets available from the Wolverhampton Grand Box Office. \nCelebrate the wonder of opera in the company of Mozart\, Verdi\, Bizet\, Puccini\, Offenbach\, Gilbert & Sullivan and more\, in a feast of some of the greatest music ever composed. \nA programme of passion\, drama\, humour\, superb singing\, elegant costumes and an attractive set combine to make this a performance not to be missed.  A thrilling evening for all opera lovers and newcomers alike!
URL:https://londonfestivalopera.co.uk/event/a-celebration-of-opera-at-the-wolverhampton-grand-theatre/
LOCATION:The Wolverhampton Grand Theatre\, Wolverhampton\, Lichfield Street\, Wolverhampton\, WV1 1DE\, United Kingdom
CATEGORIES:Opera Gala Evening,Public Performances,Theatre Performances
ATTACH;FMTTYPE=image/jpeg:https://londonfestivalopera.co.uk/wp-content/uploads/2019/03/A-Celebration-of-Opera-with-text-SQUAREjpeg.jpg
END:VEVENT
BEGIN:VEVENT
DTSTART;TZID=Europe/London:20190813T193000
DTEND;TZID=Europe/London:20190813T193000
DTSTAMP:20260419T191520
CREATED:20190603T144120Z
LAST-MODIFIED:20190603T152814Z
UID:2906-1565724600-1565724600@londonfestivalopera.co.uk
SUMMARY:'A Celebration of Opera' at the Churchill Theatre\, Bromley
DESCRIPTION:A public gala performance by London Festival Opera at The Churchill Theatre\, Bromley.   Tickets available from The Churchill Theatre Box Office. \nCelebrate the wonder of opera in the company of Mozart\, Verdi\, Bizet\, Puccini\, Offenbach\, Gilbert & Sullivan and more\, in a feast of some of the greatest music ever composed. \nA programme of passion\, drama\, humour\, superb singing\, elegant costumes and an attractive set combine to make this a performance not to be missed.  A thrilling evening for all opera lovers and newcomers alike!
URL:https://londonfestivalopera.co.uk/event/a-celebration-of-opera-at-the-churchill-theatre-bromley/
LOCATION:The Churchill Theatre\, Bromley\, High Street\, Bromley\, Kent\, BR1 1HA\, United Kingdom
CATEGORIES:Opera Gala Evening,Public Performances,Theatre Performances
ATTACH;FMTTYPE=image/jpeg:https://londonfestivalopera.co.uk/wp-content/uploads/2019/03/A-Celebration-of-Opera-with-text-SQUAREjpeg.jpg
END:VEVENT
BEGIN:VEVENT
DTSTART;TZID=Europe/London:20190424T193000
DTEND;TZID=Europe/London:20190424T193000
DTSTAMP:20260419T191520
CREATED:20190325T141845Z
LAST-MODIFIED:20190325T151002Z
UID:2659-1556134200-1556134200@londonfestivalopera.co.uk
SUMMARY:'A Celebration of Opera' at The Darlington Hippodrome
DESCRIPTION:A public gala performance by London Festival Opera at The Darlington Hippodrome.   Tickets available from the Darlington Hippodrome Box Office. \nCelebrate the wonder of opera in the company of Mozart\, Verdi\, Bizet\, Puccini\, Offenbach\, Gilbert & Sullivan and more\, in a feast of some of the greatest music ever composed. \nA programme of passion\, drama\, humour\, superb singing\, elegant costumes and an attractive set combine to make this a performance not to be missed.  A thrilling evening for all opera lovers and newcomers alike!
URL:https://londonfestivalopera.co.uk/event/a-celebration-of-opera-at-the-darlington-hippodrome/
LOCATION:The Darlington Hippodrome Theatre\, Parkgate\, Darlington\, DL1 1RR\, United Kingdom
CATEGORIES:Public Performances,Theatre Performances
ATTACH;FMTTYPE=image/jpeg:https://londonfestivalopera.co.uk/wp-content/uploads/2019/03/A-Celebration-of-Opera-with-text-SQUAREjpeg.jpg
END:VEVENT
END:VCALENDAR