BEGIN:VCALENDAR
VERSION:2.0
PRODID:-//London Festival Opera - ECPv6.15.11//NONSGML v1.0//EN
CALSCALE:GREGORIAN
METHOD:PUBLISH
X-ORIGINAL-URL:https://londonfestivalopera.co.uk
X-WR-CALDESC:Events for London Festival Opera
REFRESH-INTERVAL;VALUE=DURATION:PT1H
X-Robots-Tag:noindex
X-PUBLISHED-TTL:PT1H
BEGIN:VTIMEZONE
TZID:Europe/London
BEGIN:DAYLIGHT
TZOFFSETFROM:+0000
TZOFFSETTO:+0100
TZNAME:BST
DTSTART:20180325T010000
END:DAYLIGHT
BEGIN:STANDARD
TZOFFSETFROM:+0100
TZOFFSETTO:+0000
TZNAME:GMT
DTSTART:20181028T010000
END:STANDARD
BEGIN:DAYLIGHT
TZOFFSETFROM:+0000
TZOFFSETTO:+0100
TZNAME:BST
DTSTART:20190331T010000
END:DAYLIGHT
BEGIN:STANDARD
TZOFFSETFROM:+0100
TZOFFSETTO:+0000
TZNAME:GMT
DTSTART:20191027T010000
END:STANDARD
BEGIN:DAYLIGHT
TZOFFSETFROM:+0000
TZOFFSETTO:+0100
TZNAME:BST
DTSTART:20200329T010000
END:DAYLIGHT
BEGIN:STANDARD
TZOFFSETFROM:+0100
TZOFFSETTO:+0000
TZNAME:GMT
DTSTART:20201025T010000
END:STANDARD
END:VTIMEZONE
BEGIN:VEVENT
DTSTART;TZID=Europe/London:20191127T193000
DTEND;TZID=Europe/London:20191127T193000
DTSTAMP:20260424T132938
CREATED:20190325T150243Z
LAST-MODIFIED:20190603T150941Z
UID:2699-1574883000-1574883000@londonfestivalopera.co.uk
SUMMARY:'A Night at the Opera' - a gala performance at The Phyllis Court Club\, Henley-on-Thames
DESCRIPTION:Details to follow.
URL:https://londonfestivalopera.co.uk/event/a-night-at-the-opera-a-gala-performance-at-the-phyllis-court-club-henley-on-thames/
LOCATION:The Phyllis Court Club\, Phyllis Court Drive\, Henley-on-Thames\, RG9 2HT\, United Kingdom
CATEGORIES:Private Events,Private Performances
ATTACH;FMTTYPE=image/jpeg:https://londonfestivalopera.co.uk/wp-content/uploads/2019/03/A-Celebration-of-Opera-image-oblong.jpg
END:VEVENT
END:VCALENDAR